BEGIN:VCALENDAR
VERSION:2.0
PRODID:-//AMASF - ECPv6.15.20//NONSGML v1.0//EN
CALSCALE:GREGORIAN
METHOD:PUBLISH
X-WR-CALNAME:AMASF
X-ORIGINAL-URL:https://www.amasf.org
X-WR-CALDESC:Events for AMASF
REFRESH-INTERVAL;VALUE=DURATION:PT1H
X-Robots-Tag:noindex
X-PUBLISHED-TTL:PT1H
BEGIN:VTIMEZONE
TZID:America/Los_Angeles
BEGIN:DAYLIGHT
TZOFFSETFROM:-0800
TZOFFSETTO:-0700
TZNAME:PDT
DTSTART:20170312T100000
END:DAYLIGHT
BEGIN:STANDARD
TZOFFSETFROM:-0700
TZOFFSETTO:-0800
TZNAME:PST
DTSTART:20171105T090000
END:STANDARD
BEGIN:DAYLIGHT
TZOFFSETFROM:-0800
TZOFFSETTO:-0700
TZNAME:PDT
DTSTART:20180311T100000
END:DAYLIGHT
BEGIN:STANDARD
TZOFFSETFROM:-0700
TZOFFSETTO:-0800
TZNAME:PST
DTSTART:20181104T090000
END:STANDARD
BEGIN:DAYLIGHT
TZOFFSETFROM:-0800
TZOFFSETTO:-0700
TZNAME:PDT
DTSTART:20190310T100000
END:DAYLIGHT
BEGIN:STANDARD
TZOFFSETFROM:-0700
TZOFFSETTO:-0800
TZNAME:PST
DTSTART:20191103T090000
END:STANDARD
END:VTIMEZONE
BEGIN:VEVENT
DTSTART;TZID=America/Los_Angeles:20181204T180000
DTEND;TZID=America/Los_Angeles:20181204T210000
DTSTAMP:20260421T115943
CREATED:20180924T161107Z
LAST-MODIFIED:20181203T230437Z
UID:10000722-1543946400-1543957200@www.amasf.org
SUMMARY:Jingle\, Mix & Mingle with PRSASF and AMASF Holiday Party
DESCRIPTION:Public Relations Society of America San Francisco Bay Area (PRSA-SF) and American Marketing Association San Francisco Bay Area (AMA SF) team up to celebrate the holiday season\, co-hosting this year’s Jingle\, Mix & Mingle!\nGet in the holiday spirit with your friends at PRSA-SF and AMA SF at a special holiday party to benefit our friends in the Tenderloin! Mingle in one of San Francisco’s hottest lounges with marketing\, PR and communications professionals from across the Bay. Learn about open positions and scout new talent for your organization.\nIndulge in holiday cheer with light fare\, complimentary drinks (depending on ticket purchased)\, dancing and photo booth fun. Participate in a silent auction to benefit the Tenderloin After-School Program\, from which proceeds will go directly to the nonprofit group whose mission is to provide a safe drop-in space for the children of the Tenderloin District. Items up for grabs include restaurant packages\, sports memorabilia and much more!\nWe will also collect toys for the San Francisco Firefighters Toy Program. Kindly bring an unwrapped toy for ages infant through 12 — gifts for tweens (bath/body products\, jewelry\, comic books and SF sports team clothing and accessories) — are in highest demand.\nPre-registration is required as space is limited — so reserve your spot today!\nThanks to our sponsors:\nPlatinum Sponsor http://www.cision.com\n\n\n\n\n\n \n 11.26.18 jj 6:48 (Chromium)
URL:https://www.amasf.org/event/jingle-mix-mingle-with-prsasf-and-amasf-holiday-party/
LOCATION:Dada Bar\, 65 Post Street\, San Francisco\, CA\, 94104\, United States
CATEGORIES:AMA SF Events
ATTACH;FMTTYPE=image/jpeg:https://www.amasf.org/wp-content/uploads/2018/11/3250cfb9214ae51a4c297cd61c701e7f.jpg
END:VEVENT
END:VCALENDAR