BEGIN:VCALENDAR
VERSION:2.0
PRODID:-//AMASF - ECPv6.15.20//NONSGML v1.0//EN
CALSCALE:GREGORIAN
METHOD:PUBLISH
X-WR-CALNAME:AMASF
X-ORIGINAL-URL:https://www.amasf.org
X-WR-CALDESC:Events for AMASF
REFRESH-INTERVAL;VALUE=DURATION:PT1H
X-Robots-Tag:noindex
X-PUBLISHED-TTL:PT1H
BEGIN:VTIMEZONE
TZID:America/Los_Angeles
BEGIN:DAYLIGHT
TZOFFSETFROM:-0800
TZOFFSETTO:-0700
TZNAME:PDT
DTSTART:20250309T100000
END:DAYLIGHT
BEGIN:STANDARD
TZOFFSETFROM:-0700
TZOFFSETTO:-0800
TZNAME:PST
DTSTART:20251102T090000
END:STANDARD
BEGIN:DAYLIGHT
TZOFFSETFROM:-0800
TZOFFSETTO:-0700
TZNAME:PDT
DTSTART:20260308T100000
END:DAYLIGHT
BEGIN:STANDARD
TZOFFSETFROM:-0700
TZOFFSETTO:-0800
TZNAME:PST
DTSTART:20261101T090000
END:STANDARD
BEGIN:DAYLIGHT
TZOFFSETFROM:-0800
TZOFFSETTO:-0700
TZNAME:PDT
DTSTART:20270314T100000
END:DAYLIGHT
BEGIN:STANDARD
TZOFFSETFROM:-0700
TZOFFSETTO:-0800
TZNAME:PST
DTSTART:20271107T090000
END:STANDARD
END:VTIMEZONE
BEGIN:VEVENT
DTSTART;TZID=America/Los_Angeles:20260430T100000
DTEND;TZID=America/Los_Angeles:20260430T110000
DTSTAMP:20260422T201740
CREATED:20260327T143156Z
LAST-MODIFIED:20260327T143156Z
UID:10001405-1777543200-1777546800@www.amasf.org
SUMMARY:Revenue in Uncertain Channels: Investing When Attribution Lags (Members Only)
DESCRIPTION:
URL:https://www.amasf.org/event/revenue-in-uncertain-channels-investing-when-attribution-lags-members-only/
CATEGORIES:AMA Events,Partner Events
ATTACH;FMTTYPE=image/webp:https://www.amasf.org/wp-content/uploads/2026/03/revenue-in-uncertain-channels-investing-when-attribution-lags-members-only.webp
END:VEVENT
END:VCALENDAR