BEGIN:VCALENDAR
VERSION:2.0
PRODID:-//AMASF - ECPv6.15.20//NONSGML v1.0//EN
CALSCALE:GREGORIAN
METHOD:PUBLISH
X-ORIGINAL-URL:https://www.amasf.org
X-WR-CALDESC:Events for AMASF
REFRESH-INTERVAL;VALUE=DURATION:PT1H
X-Robots-Tag:noindex
X-PUBLISHED-TTL:PT1H
BEGIN:VTIMEZONE
TZID:America/Los_Angeles
BEGIN:DAYLIGHT
TZOFFSETFROM:-0800
TZOFFSETTO:-0700
TZNAME:PDT
DTSTART:20240310T100000
END:DAYLIGHT
BEGIN:STANDARD
TZOFFSETFROM:-0700
TZOFFSETTO:-0800
TZNAME:PST
DTSTART:20241103T090000
END:STANDARD
BEGIN:DAYLIGHT
TZOFFSETFROM:-0800
TZOFFSETTO:-0700
TZNAME:PDT
DTSTART:20250309T100000
END:DAYLIGHT
BEGIN:STANDARD
TZOFFSETFROM:-0700
TZOFFSETTO:-0800
TZNAME:PST
DTSTART:20251102T090000
END:STANDARD
BEGIN:DAYLIGHT
TZOFFSETFROM:-0800
TZOFFSETTO:-0700
TZNAME:PDT
DTSTART:20260308T100000
END:DAYLIGHT
BEGIN:STANDARD
TZOFFSETFROM:-0700
TZOFFSETTO:-0800
TZNAME:PST
DTSTART:20261101T090000
END:STANDARD
END:VTIMEZONE
BEGIN:VEVENT
DTSTART;TZID=America/Los_Angeles:20250311T080000
DTEND;TZID=America/Los_Angeles:20250311T112500
DTSTAMP:20260423T071801
CREATED:20250226T133139Z
LAST-MODIFIED:20250226T133139Z
UID:10001256-1741680000-1741692300@www.amasf.org
SUMMARY:Virtual Conference: Analytics & Measurement
DESCRIPTION:
URL:https://www.amasf.org/event/virtual-conference-analytics-measurement/
CATEGORIES:AMA Events,Partner Events
ATTACH;FMTTYPE=image/webp:https://www.amasf.org/wp-content/uploads/2025/02/events-virtualconference-analytics-measurement.webp
END:VEVENT
BEGIN:VEVENT
DTSTART;TZID=America/Los_Angeles:20250311T080000
DTEND;TZID=America/Los_Angeles:20250312T130000
DTSTAMP:20260423T071801
CREATED:20250225T194841Z
LAST-MODIFIED:20250225T194841Z
UID:10001255-1741680000-1741784400@www.amasf.org
SUMMARY:Social Media Bootcamp (March 2025)
DESCRIPTION:
URL:https://www.amasf.org/event/social-media-bootcamp-march-2025/
CATEGORIES:AMA Events,Partner Events
ATTACH;FMTTYPE=image/webp:https://www.amasf.org/wp-content/uploads/2025/02/events-Social-Media-Bootcamp-March-2025.webp
END:VEVENT
BEGIN:VEVENT
DTSTART;TZID=America/Los_Angeles:20250313T080000
DTEND;TZID=America/Los_Angeles:20250313T090000
DTSTAMP:20260423T071801
CREATED:20250226T133449Z
LAST-MODIFIED:20250226T133449Z
UID:10001257-1741852800-1741856400@www.amasf.org
SUMMARY:U.S. Data Privacy Laws and the Impact on Digital Marketing
DESCRIPTION:
URL:https://www.amasf.org/event/u-s-data-privacy-laws-and-the-impact-on-digital-marketing/
CATEGORIES:AMA Events,Partner Events
ATTACH;FMTTYPE=image/webp:https://www.amasf.org/wp-content/uploads/2025/02/events-us-data-privacy-laws.webp
END:VEVENT
BEGIN:VEVENT
DTSTART;VALUE=DATE:20250319
DTEND;VALUE=DATE:20250410
DTSTAMP:20260423T071801
CREATED:20250226T134057Z
LAST-MODIFIED:20250226T134057Z
UID:10001258-1742342400-1744243199@www.amasf.org
SUMMARY:Sprinklr and AMA Bootcamp Series: Marketing Transformation in the Age of AI
DESCRIPTION:
URL:https://www.amasf.org/event/sprinklr-and-ama-bootcamp-series-marketing-transformation-in-the-age-of-ai/
CATEGORIES:AMA Events,Partner Events
ATTACH;FMTTYPE=image/webp:https://www.amasf.org/wp-content/uploads/2025/02/events-Sprinklr-and-AMA-Bootcamp-Series-Marketing-Transformation-in-the-Age-of-AI.webp
END:VEVENT
BEGIN:VEVENT
DTSTART;TZID=America/Los_Angeles:20250321T100000
DTEND;TZID=America/Los_Angeles:20250321T110000
DTSTAMP:20260423T071801
CREATED:20250226T140052Z
LAST-MODIFIED:20250226T140107Z
UID:10001259-1742551200-1742554800@www.amasf.org
SUMMARY:The 2025 State of B2B Content Consumption: What’s Changing\, What’s Working\, and What You Need to Do Now
DESCRIPTION:
URL:https://www.amasf.org/event/the-2025-state-of-b2b-content-consumption-whats-changing-whats-working-and-what-you-need-to-do-now/
CATEGORIES:AMA Events,Partner Events
ATTACH;FMTTYPE=image/webp:https://www.amasf.org/wp-content/uploads/2025/02/Events-The-2025-state-of-B2B-content-consumption.webp
END:VEVENT
BEGIN:VEVENT
DTSTART;TZID=America/Los_Angeles:20250325T080000
DTEND;TZID=America/Los_Angeles:20250325T100000
DTSTAMP:20260423T071801
CREATED:20250226T140517Z
LAST-MODIFIED:20250226T160922Z
UID:10001260-1742889600-1742896800@www.amasf.org
SUMMARY:Incorporate Sustainability into Your Marketing Strategy
DESCRIPTION:
URL:https://www.amasf.org/event/incorporate-sustainability-into-your-marketing-strategy/
CATEGORIES:AMA Events,Partner Events
ATTACH;FMTTYPE=image/webp:https://www.amasf.org/wp-content/uploads/2025/02/Events-Incorporate-Sustainability-Into-Your-Marketing-Strategy.webp
END:VEVENT
BEGIN:VEVENT
DTSTART;TZID=America/Los_Angeles:20250326T080000
DTEND;TZID=America/Los_Angeles:20250326T123000
DTSTAMP:20260423T071801
CREATED:20250226T140747Z
LAST-MODIFIED:20250226T140747Z
UID:10001261-1742976000-1742992200@www.amasf.org
SUMMARY:Influencer Marketing Bootcamp
DESCRIPTION:
URL:https://www.amasf.org/event/influencer-marketing-bootcamp/
CATEGORIES:AMA Events,Partner Events
ATTACH;FMTTYPE=image/webp:https://www.amasf.org/wp-content/uploads/2025/02/Events-Influencer-Marketing-Bootcamp.webp
END:VEVENT
BEGIN:VEVENT
DTSTART;VALUE=DATE:20250403
DTEND;VALUE=DATE:20250406
DTSTAMP:20260423T071801
CREATED:20250331T172845Z
LAST-MODIFIED:20250331T172845Z
UID:10001263-1743638400-1743897599@www.amasf.org
SUMMARY:2025 AMA International Collegiate Conference
DESCRIPTION:
URL:https://www.amasf.org/event/2025-ama-international-collegiate-conference/
CATEGORIES:AMA Events,Partner Events
ATTACH;FMTTYPE=image/webp:https://www.amasf.org/wp-content/uploads/2025/03/events-2025-AMA-International-Collegiate-Conference.webp
END:VEVENT
BEGIN:VEVENT
DTSTART;TZID=America/Los_Angeles:20250410T080000
DTEND;TZID=America/Los_Angeles:20250410T100000
DTSTAMP:20260423T071801
CREATED:20250331T173730Z
LAST-MODIFIED:20250331T173730Z
UID:10001264-1744272000-1744279200@www.amasf.org
SUMMARY:9 Ways to Increase Response Using Behavioral Science
DESCRIPTION:
URL:https://www.amasf.org/event/9-ways-to-increase-response-using-behavioral-science/
CATEGORIES:AMA Events,Partner Events
ATTACH;FMTTYPE=image/webp:https://www.amasf.org/wp-content/uploads/2025/03/events-9-Ways-to-Increase-Response-Using-Behavioral-Science.webp
END:VEVENT
BEGIN:VEVENT
DTSTART;TZID=America/Los_Angeles:20250415T080000
DTEND;TZID=America/Los_Angeles:20250415T100000
DTSTAMP:20260423T071801
CREATED:20250331T174031Z
LAST-MODIFIED:20250331T174031Z
UID:10001265-1744704000-1744711200@www.amasf.org
SUMMARY:Reimagining the Creative Process for Marketing
DESCRIPTION:
URL:https://www.amasf.org/event/reimagining-the-creative-process-for-marketing/
CATEGORIES:AMA Events,Partner Events
ATTACH;FMTTYPE=image/webp:https://www.amasf.org/wp-content/uploads/2025/03/events-Reimagining-the-Creative-Process-for-Marketing.webp
END:VEVENT
BEGIN:VEVENT
DTSTART;TZID=America/Los_Angeles:20250417T080000
DTEND;TZID=America/Los_Angeles:20250417T100000
DTSTAMP:20260423T071801
CREATED:20250331T174254Z
LAST-MODIFIED:20250331T174254Z
UID:10001266-1744876800-1744884000@www.amasf.org
SUMMARY:Maximize ROI with Strategic Budget Management
DESCRIPTION:
URL:https://www.amasf.org/event/maximize-roi-with-strategic-budget-management/
CATEGORIES:AMA Events,Partner Events
ATTACH;FMTTYPE=image/webp:https://www.amasf.org/wp-content/uploads/2025/03/events-Maximize-ROI-with-Strategic-Budget-Management.webp
END:VEVENT
BEGIN:VEVENT
DTSTART;TZID=America/Los_Angeles:20250417T100000
DTEND;TZID=America/Los_Angeles:20250417T110000
DTSTAMP:20260423T071801
CREATED:20250331T174459Z
LAST-MODIFIED:20250331T174459Z
UID:10001267-1744884000-1744887600@www.amasf.org
SUMMARY:Navigating Growth and Patient Acquisition Through Effective Marketing Strategies
DESCRIPTION:
URL:https://www.amasf.org/event/navigating-growth-and-patient-acquisition-through-effective-marketing-strategies/
CATEGORIES:AMA Events,Partner Events
ATTACH;FMTTYPE=image/webp:https://www.amasf.org/wp-content/uploads/2025/03/events-Navigating-Growth-and-Patient-Acquisition-Through-Effective-Marketing-Strategies.webp
END:VEVENT
BEGIN:VEVENT
DTSTART;TZID=America/Los_Angeles:20250423T103000
DTEND;TZID=America/Los_Angeles:20250424T140000
DTSTAMP:20260423T071801
CREATED:20250331T174746Z
LAST-MODIFIED:20250331T174746Z
UID:10001268-1745404200-1745503200@www.amasf.org
SUMMARY:Digital Marketing Bootcamp (April 2025)
DESCRIPTION:
URL:https://www.amasf.org/event/digital-marketing-bootcamp-april-2025/
CATEGORIES:AMA Events,Partner Events
ATTACH;FMTTYPE=image/webp:https://www.amasf.org/wp-content/uploads/2025/03/events-Digital-Marketing-Bootcamp-April-2025.webp
END:VEVENT
BEGIN:VEVENT
DTSTART;VALUE=DATE:20250429
DTEND;VALUE=DATE:20250501
DTSTAMP:20260423T071801
CREATED:20250331T174946Z
LAST-MODIFIED:20250331T174946Z
UID:10001269-1745884800-1746057599@www.amasf.org
SUMMARY:Virtual Conference: Marketing in Higher Education
DESCRIPTION:
URL:https://www.amasf.org/event/virtual-conference-marketing-in-higher-education-2/
CATEGORIES:AMA Events,Partner Events
ATTACH;FMTTYPE=image/webp:https://www.amasf.org/wp-content/uploads/2025/03/events-Virtual-Conference-Marketing-in-Higher-Education.webp
END:VEVENT
BEGIN:VEVENT
DTSTART;VALUE=DATE:20250430
DTEND;VALUE=DATE:20250612
DTSTAMP:20260423T071801
CREATED:20250331T175216Z
LAST-MODIFIED:20250331T175216Z
UID:10001270-1745971200-1749686399@www.amasf.org
SUMMARY:Digital Marketing Copywriting – April 2025
DESCRIPTION:
URL:https://www.amasf.org/event/digital-marketing-copywriting-april-2025/
CATEGORIES:AMA Events,Partner Events
ATTACH;FMTTYPE=image/webp:https://www.amasf.org/wp-content/uploads/2025/03/events-Digital-Marketing-Copywriting-April-2025.webp
END:VEVENT
BEGIN:VEVENT
DTSTART;TZID=America/Los_Angeles:20250501T080000
DTEND;TZID=America/Los_Angeles:20250501T123000
DTSTAMP:20260423T071801
CREATED:20250425T184134Z
LAST-MODIFIED:20250425T191034Z
UID:10001273-1746086400-1746102600@www.amasf.org
SUMMARY:Brand Management Bootcamp
DESCRIPTION:
URL:https://www.amasf.org/event/brand-management-bootcamp/
CATEGORIES:AMA Events,Partner Events
ATTACH;FMTTYPE=image/webp:https://www.amasf.org/wp-content/uploads/2025/04/Events-Brand-Management-Bootcamp.webp
END:VEVENT
BEGIN:VEVENT
DTSTART;TZID=America/Los_Angeles:20250506T080000
DTEND;TZID=America/Los_Angeles:20250506T100000
DTSTAMP:20260423T071801
CREATED:20250425T184650Z
LAST-MODIFIED:20250425T191110Z
UID:10001274-1746518400-1746525600@www.amasf.org
SUMMARY:How to Connect\, Converse\, and Convert With Social Listening
DESCRIPTION:
URL:https://www.amasf.org/event/how-to-connect-converse-and-convert-with-social-listening/
CATEGORIES:AMA Events,Partner Events
ATTACH;FMTTYPE=image/webp:https://www.amasf.org/wp-content/uploads/2025/04/Events-How-to-Connect-Converse-and-Convert-With-Social-Listening.webp
END:VEVENT
BEGIN:VEVENT
DTSTART;TZID=America/Los_Angeles:20250507T080000
DTEND;TZID=America/Los_Angeles:20250507T100000
DTSTAMP:20260423T071801
CREATED:20250425T184858Z
LAST-MODIFIED:20250425T191134Z
UID:10001275-1746604800-1746612000@www.amasf.org
SUMMARY:Building Data Privacy into Your Marketing Strategy
DESCRIPTION:
URL:https://www.amasf.org/event/building-data-privacy-into-your-marketing-strategy/
CATEGORIES:AMA Events,Partner Events
ATTACH;FMTTYPE=image/webp:https://www.amasf.org/wp-content/uploads/2025/04/Events-Building-Data-Privacy-into-Your-Marketing-Strategy.webp
END:VEVENT
BEGIN:VEVENT
DTSTART;TZID=America/Los_Angeles:20250508T100000
DTEND;TZID=America/Los_Angeles:20250508T110000
DTSTAMP:20260423T071801
CREATED:20250425T185226Z
LAST-MODIFIED:20250425T191232Z
UID:10001276-1746698400-1746702000@www.amasf.org
SUMMARY:Unlocking Efficiency: The Power of Marketing Workflow Automation
DESCRIPTION:
URL:https://www.amasf.org/event/unlocking-efficiency-the-power-of-marketing-workflow-automation/
CATEGORIES:AMA Events,Partner Events
ATTACH;FMTTYPE=image/webp:https://www.amasf.org/wp-content/uploads/2025/04/Events-Unlocking-Efficiency-Marketing-Workflow-Automation.webp
END:VEVENT
BEGIN:VEVENT
DTSTART;VALUE=DATE:20250514
DTEND;VALUE=DATE:20250516
DTSTAMP:20260423T071801
CREATED:20250425T185418Z
LAST-MODIFIED:20250425T185706Z
UID:10001277-1747180800-1747353599@www.amasf.org
SUMMARY:Virtual Conference: Artificial Intelligence
DESCRIPTION:
URL:https://www.amasf.org/event/virtual-conference-artificial-intelligence/
CATEGORIES:AMA Events,Partner Events
ATTACH;FMTTYPE=image/webp:https://www.amasf.org/wp-content/uploads/2025/04/Events-Virtual-Conference-Artificial-Intelligence.webp
END:VEVENT
BEGIN:VEVENT
DTSTART;TZID=America/Los_Angeles:20250521T100000
DTEND;TZID=America/Los_Angeles:20250521T110000
DTSTAMP:20260423T071801
CREATED:20250425T185914Z
LAST-MODIFIED:20250425T185914Z
UID:10001278-1747821600-1747825200@www.amasf.org
SUMMARY:The State of AI in Sales & Marketing: Bridging the Gap for Revenue Growth
DESCRIPTION:
URL:https://www.amasf.org/event/the-state-of-ai-in-sales-marketing-bridging-the-gap-for-revenue-growth/
CATEGORIES:AMA Events,Partner Events
ATTACH;FMTTYPE=image/webp:https://www.amasf.org/wp-content/uploads/2025/04/Events-The-State-of-AI-in-Sales-and-Marketing.webp
END:VEVENT
BEGIN:VEVENT
DTSTART;VALUE=DATE:20250523
DTEND;VALUE=DATE:20250526
DTSTAMP:20260423T071801
CREATED:20250425T190329Z
LAST-MODIFIED:20250425T190414Z
UID:10001279-1747958400-1748217599@www.amasf.org
SUMMARY:2025 AMA Global Marketing SIG Conference
DESCRIPTION:
URL:https://www.amasf.org/event/2025-ama-global-marketing-sig-conference/
CATEGORIES:AMA Events,Partner Events
ATTACH;FMTTYPE=image/webp:https://www.amasf.org/wp-content/uploads/2025/04/2025-AMA-Global-Marketing-SIG-Conference.webp
END:VEVENT
BEGIN:VEVENT
DTSTART;TZID=America/Los_Angeles:20250527T080000
DTEND;TZID=America/Los_Angeles:20250527T100000
DTSTAMP:20260423T071801
CREATED:20250425T190633Z
LAST-MODIFIED:20250425T190633Z
UID:10001280-1748332800-1748340000@www.amasf.org
SUMMARY:Bridging the Gap Between AI & Marketing
DESCRIPTION:
URL:https://www.amasf.org/event/bridging-the-gap-between-ai-marketing/
CATEGORIES:AMA Events,Partner Events
ATTACH;FMTTYPE=image/webp:https://www.amasf.org/wp-content/uploads/2025/04/Events-Bridging-the-Gap-Between-AI-and-Marketing.webp
END:VEVENT
BEGIN:VEVENT
DTSTART;TZID=America/Los_Angeles:20250529T100000
DTEND;TZID=America/Los_Angeles:20250529T110000
DTSTAMP:20260423T071801
CREATED:20250425T190912Z
LAST-MODIFIED:20250425T190912Z
UID:10001281-1748512800-1748516400@www.amasf.org
SUMMARY:Unlocking Adobe’s Top 5 Content Supply Chain Innovation Pillars
DESCRIPTION:
URL:https://www.amasf.org/event/unlocking-adobes-top-5-content-supply-chain-innovation-pillars/
CATEGORIES:AMA Events,Partner Events
ATTACH;FMTTYPE=image/webp:https://www.amasf.org/wp-content/uploads/2025/04/Events-Unlocking-Adobes-Top-5-Content-Supply-Chain.webp
END:VEVENT
BEGIN:VEVENT
DTSTART;TZID=America/Los_Angeles:20250603T080000
DTEND;TZID=America/Los_Angeles:20250603T100000
DTSTAMP:20260423T071801
CREATED:20250528T194104Z
LAST-MODIFIED:20250528T194104Z
UID:10001285-1748937600-1748944800@www.amasf.org
SUMMARY:How to Start\, Grow & Scale Your Freelance Business
DESCRIPTION:
URL:https://www.amasf.org/event/how-to-start-grow-scale-your-freelance-business/
CATEGORIES:AMA Events,Partner Events
ATTACH;FMTTYPE=image/webp:https://www.amasf.org/wp-content/uploads/2025/05/Events-How-To-Start-Grow-Scale-Your-Freelance-Business.webp
END:VEVENT
BEGIN:VEVENT
DTSTART;TZID=America/Los_Angeles:20250603T100000
DTEND;TZID=America/Los_Angeles:20250603T110000
DTSTAMP:20260423T071801
CREATED:20250528T194407Z
LAST-MODIFIED:20250528T194407Z
UID:10001286-1748944800-1748948400@www.amasf.org
SUMMARY:MSU Brings Discussion to the Center of the Learning Experience: How To Integrate AI to Transform Student Engagement
DESCRIPTION:
URL:https://www.amasf.org/event/msu-brings-discussion-to-the-center-of-the-learning-experience-how-to-integrate-ai-to-transform-student-engagement/
CATEGORIES:AMA Events,Partner Events
ATTACH;FMTTYPE=image/webp:https://www.amasf.org/wp-content/uploads/2025/05/Events-MSU-Brings-Discussion-to-the-Center-of-the-Learning-Experience.webp
END:VEVENT
BEGIN:VEVENT
DTSTART;TZID=America/Los_Angeles:20250604T080000
DTEND;TZID=America/Los_Angeles:20250604T100000
DTSTAMP:20260423T071801
CREATED:20250528T194617Z
LAST-MODIFIED:20250528T194617Z
UID:10001287-1749024000-1749031200@www.amasf.org
SUMMARY:Built for Buy-In: Fundamentals of Message Design
DESCRIPTION:
URL:https://www.amasf.org/event/built-for-buy-in-fundamentals-of-message-design/
CATEGORIES:AMA Events,Partner Events
ATTACH;FMTTYPE=image/webp:https://www.amasf.org/wp-content/uploads/2025/05/Events-Built-for-Buy-In.webp
END:VEVENT
BEGIN:VEVENT
DTSTART;TZID=America/Los_Angeles:20250604T100000
DTEND;TZID=America/Los_Angeles:20250604T110000
DTSTAMP:20260423T071801
CREATED:20250528T194916Z
LAST-MODIFIED:20250528T194946Z
UID:10001288-1749031200-1749034800@www.amasf.org
SUMMARY:Translating Marketing Metrics for Non-Marketers: How to Communicate Impact & ROI Effectively
DESCRIPTION:
URL:https://www.amasf.org/event/translating-marketing-metrics-for-non-marketers-how-to-communicate-impact-roi-effectively/
CATEGORIES:AMA Events,Partner Events
ATTACH;FMTTYPE=image/webp:https://www.amasf.org/wp-content/uploads/2025/05/Events-Translating-Marketing-Metrics.webp
END:VEVENT
BEGIN:VEVENT
DTSTART;VALUE=DATE:20250609
DTEND;VALUE=DATE:20250612
DTSTAMP:20260423T071801
CREATED:20250528T195203Z
LAST-MODIFIED:20250528T195203Z
UID:10001289-1749427200-1749686399@www.amasf.org
SUMMARY:AMA Health Care Executive Summit (Invitation Only)
DESCRIPTION:
URL:https://www.amasf.org/event/ama-health-care-executive-summit-invitation-only/
CATEGORIES:AMA Events,Partner Events
ATTACH;FMTTYPE=image/webp:https://www.amasf.org/wp-content/uploads/2025/05/Events-AMA-Health-Care-Executive-Summit.webp
END:VEVENT
BEGIN:VEVENT
DTSTART;TZID=America/Los_Angeles:20250610T080000
DTEND;TZID=America/Los_Angeles:20250610T112500
DTSTAMP:20260423T071801
CREATED:20250528T195434Z
LAST-MODIFIED:20250528T195532Z
UID:10001290-1749542400-1749554700@www.amasf.org
SUMMARY:Virtual Conference: Demand Gen/Growth Marketing
DESCRIPTION:
URL:https://www.amasf.org/event/virtual-conference-demand-gen-growth-marketing/
CATEGORIES:AMA Events,Partner Events
ATTACH;FMTTYPE=image/webp:https://www.amasf.org/wp-content/uploads/2025/05/Events-Virtual-Conference-Demand-Gen-Growth-Marketing.webp
END:VEVENT
END:VCALENDAR