BEGIN:VCALENDAR
VERSION:2.0
PRODID:-//AMASF - ECPv6.15.20//NONSGML v1.0//EN
CALSCALE:GREGORIAN
METHOD:PUBLISH
X-ORIGINAL-URL:https://www.amasf.org
X-WR-CALDESC:Events for AMASF
REFRESH-INTERVAL;VALUE=DURATION:PT1H
X-Robots-Tag:noindex
X-PUBLISHED-TTL:PT1H
BEGIN:VTIMEZONE
TZID:America/Los_Angeles
BEGIN:DAYLIGHT
TZOFFSETFROM:-0800
TZOFFSETTO:-0700
TZNAME:PDT
DTSTART:20210314T100000
END:DAYLIGHT
BEGIN:STANDARD
TZOFFSETFROM:-0700
TZOFFSETTO:-0800
TZNAME:PST
DTSTART:20211107T090000
END:STANDARD
BEGIN:DAYLIGHT
TZOFFSETFROM:-0800
TZOFFSETTO:-0700
TZNAME:PDT
DTSTART:20220313T100000
END:DAYLIGHT
BEGIN:STANDARD
TZOFFSETFROM:-0700
TZOFFSETTO:-0800
TZNAME:PST
DTSTART:20221106T090000
END:STANDARD
BEGIN:DAYLIGHT
TZOFFSETFROM:-0800
TZOFFSETTO:-0700
TZNAME:PDT
DTSTART:20230312T100000
END:DAYLIGHT
BEGIN:STANDARD
TZOFFSETFROM:-0700
TZOFFSETTO:-0800
TZNAME:PST
DTSTART:20231105T090000
END:STANDARD
END:VTIMEZONE
BEGIN:VEVENT
DTSTART;TZID=America/Los_Angeles:20220818T100000
DTEND;TZID=America/Los_Angeles:20220818T110000
DTSTAMP:20260425T034535
CREATED:20220727T091833Z
LAST-MODIFIED:20220727T195947Z
UID:10001085-1660816800-1660820400@www.amasf.org
SUMMARY:Future-proofing your MarTech Stack
DESCRIPTION:Looking to upgrade your marketing tech stack\, but don’t know where to start? In this session\, we’ll break down the foundations of modern martech strategy\, including: \n\nHow martech can be used to advance numerous goals across your product lifecycle\nPros & cons of common tech stack types\nTop use cases across a few of the top martech categories for digital transformation – including attribution\, UA platforms\, marketing automation\, product analytics and CDPs
URL:https://www.amasf.org/event/future-proofing-your-martech-stack/
CATEGORIES:AMA Events,Partner Events
ATTACH;FMTTYPE=image/png:https://www.amasf.org/wp-content/uploads/2022/07/future-proofing-your-martech-stack.png
END:VEVENT
BEGIN:VEVENT
DTSTART;TZID=America/Los_Angeles:20220818T180000
DTEND;TZID=America/Los_Angeles:20220818T210000
DTSTAMP:20260425T034535
CREATED:20220711T201805Z
LAST-MODIFIED:20220818T062604Z
UID:10001080-1660845600-1660856400@www.amasf.org
SUMMARY:AMA SF Summer Social
DESCRIPTION:Kick off a gorgeous summer at Spark Social in the heart of San Francisco’s Mission Bay with fellow marketers and  AMA SF Members.\n\n\nWhat better way to enjoy the San Francisco summer than to come together with local marketing professionals for an evening of food trucks\, beer and fun!\nJoin the American Marketing Association San Francisco (AMA SF) and friends on Thursday\, August 18th for an in-person summer social. \nMeet us at “The Porch” in the center of Spark Social’s food truck and beer garden scene.  \n$10 Tickets or FREE for members with pre-registration. \nConsider joining AMA SF to take advantage of special member pricing!   \nBuy your ticket today!
URL:https://www.amasf.org/event/ama-sf-summer-social/
LOCATION:Spark Social – Look for the AMA SF Sign at the “The Porch”\, 601 Mission Bay Boulevard North\, San Francisco\, CA\, 94158\, United States
CATEGORIES:AMA SF Events
ATTACH;FMTTYPE=image/jpeg:https://www.amasf.org/wp-content/uploads/2022/07/88a4679851b60ad4451d90a77f318e9b-m1QIgI.tmp_.jpg
END:VEVENT
END:VCALENDAR